BEGIN:VCALENDAR
VERSION:2.0
PRODID:-//Henrik Tesch - ECPv6.15.18//NONSGML v1.0//EN
CALSCALE:GREGORIAN
METHOD:PUBLISH
X-ORIGINAL-URL:https://tesch.info
X-WR-CALDESC:Veranstaltungen für Henrik Tesch
REFRESH-INTERVAL;VALUE=DURATION:PT1H
X-Robots-Tag:noindex
X-PUBLISHED-TTL:PT1H
BEGIN:VTIMEZONE
TZID:Europe/Berlin
BEGIN:DAYLIGHT
TZOFFSETFROM:+0100
TZOFFSETTO:+0200
TZNAME:CEST
DTSTART:20250330T010000
END:DAYLIGHT
BEGIN:STANDARD
TZOFFSETFROM:+0200
TZOFFSETTO:+0100
TZNAME:CET
DTSTART:20251026T010000
END:STANDARD
BEGIN:DAYLIGHT
TZOFFSETFROM:+0100
TZOFFSETTO:+0200
TZNAME:CEST
DTSTART:20260329T010000
END:DAYLIGHT
BEGIN:STANDARD
TZOFFSETFROM:+0200
TZOFFSETTO:+0100
TZNAME:CET
DTSTART:20261025T010000
END:STANDARD
BEGIN:DAYLIGHT
TZOFFSETFROM:+0100
TZOFFSETTO:+0200
TZNAME:CEST
DTSTART:20270328T010000
END:DAYLIGHT
BEGIN:STANDARD
TZOFFSETFROM:+0200
TZOFFSETTO:+0100
TZNAME:CET
DTSTART:20271031T010000
END:STANDARD
END:VTIMEZONE
BEGIN:VEVENT
DTSTART;TZID=Europe/Berlin:20260702T000000
DTEND;TZID=Europe/Berlin:20260702T000000
DTSTAMP:20260425T185801
CREATED:20260126T011819Z
LAST-MODIFIED:20260126T011819Z
UID:1398-1782950400-1782950400@tesch.info
SUMMARY:Baden-Württemberg 4.0
DESCRIPTION:Seit 2017 begleitet Baden-Württemberg mit seinen Digitalstrategien „digital@bw“ und „digital.LÄND“ die Verwaltungstransformation auf dem Weg zur digitalen Leitregion. Der Kongress bietet eine Halbzeitbilanz\, Einblicke in kommende Entwicklungen und die Möglichkeit zum Austausch\, Netzwerken und zur Information über Produkte und Dienstleistungen. \nThemenschwerpunkte: OZG 1.0 & 2.0\, Cloud Computing\, Smart Cities & Regionen\, digitale Infrastruktur\, Registermodernisierung\, KI\, Ende-zu-Ende-Digitalisierung\, Innovation im Public Sector\, Prozessmanagement\, IT-Governance\, IT-Kooperation
URL:https://tesch.info/event/baden-wuerttemberg-4-0-2/
LOCATION:Maritim Hotel Stuttgart\, Seidenstraße 34 (Maritim Hotel Stuttgart)\, Stuttgart\, 70174\, Germany
CATEGORIES:Digitales,Länder
END:VEVENT
END:VCALENDAR