BEGIN:VCALENDAR
VERSION:2.0
PRODID:-//Henrik Tesch - ECPv6.15.18//NONSGML v1.0//EN
CALSCALE:GREGORIAN
METHOD:PUBLISH
X-ORIGINAL-URL:https://tesch.info
X-WR-CALDESC:Veranstaltungen für Henrik Tesch
REFRESH-INTERVAL;VALUE=DURATION:PT1H
X-Robots-Tag:noindex
X-PUBLISHED-TTL:PT1H
BEGIN:VTIMEZONE
TZID:Europe/Berlin
BEGIN:DAYLIGHT
TZOFFSETFROM:+0100
TZOFFSETTO:+0200
TZNAME:CEST
DTSTART:20240331T010000
END:DAYLIGHT
BEGIN:STANDARD
TZOFFSETFROM:+0200
TZOFFSETTO:+0100
TZNAME:CET
DTSTART:20241027T010000
END:STANDARD
BEGIN:DAYLIGHT
TZOFFSETFROM:+0100
TZOFFSETTO:+0200
TZNAME:CEST
DTSTART:20250330T010000
END:DAYLIGHT
BEGIN:STANDARD
TZOFFSETFROM:+0200
TZOFFSETTO:+0100
TZNAME:CET
DTSTART:20251026T010000
END:STANDARD
BEGIN:DAYLIGHT
TZOFFSETFROM:+0100
TZOFFSETTO:+0200
TZNAME:CEST
DTSTART:20260329T010000
END:DAYLIGHT
BEGIN:STANDARD
TZOFFSETFROM:+0200
TZOFFSETTO:+0100
TZNAME:CET
DTSTART:20261025T010000
END:STANDARD
END:VTIMEZONE
BEGIN:VEVENT
DTSTART;TZID=Europe/Berlin:20250930T000000
DTEND;TZID=Europe/Berlin:20251002T000000
DTSTAMP:20260424T152333
CREATED:20241207T093039Z
LAST-MODIFIED:20241207T094032Z
UID:1157-1759190400-1759363200@tesch.info
SUMMARY:Smart Country Convention 2025 (SCCON)
DESCRIPTION:Die SCCON Community: Hier wird Zukunft gestaltet! \nDie Smart Country Convention ist der zentrale Treffpunkt für Entscheidungsträger aus öffentlicher Hand und Digitalwirtschaft. Hier kommen Politgrößen\, Digitalexperten\, Wirtschaftsprofis\, Branchenführer\, Innovationstreiber und Technologiepioniere zusammen\, um gemeinsam die Digitalisierung von Bund\, Ländern und Kommunen voranzutreiben. \nMit über 18.000 Teilnehmenden\, mehr als 400 Partnern und 650 hochkarätigen Speakern (Stand 2024) ist die SCCON das führende Event für die digitale Transformation des öffentlichen Sektors. Denn Digitalisierung prägt Wirtschaft und Gesellschaft nachhaltig\, indem sie innovative Ansätze schafft und Raum für zukunftsfähige Strategien in öffentlichen Institutionen\, Unternehmen\, Behörden und Verbänden bietet. \nDie SCCON bietet: \n\nExklusives Bühnenprogramm: National und international renommierte Branchenexperten präsentieren wegweisende Konzepte und Lösungen.\nKuratierte Expo: Eine inspirierende Ausstellung lokaler und globaler Anbieter.\nPraxisorientierte Formate: Workshops und Seminare\, die konkrete Digitalkompetenz vermitteln.\nNetworking-Touchpoints: Plattformen für Austausch\, Wissenstransfer und Inspiration.\n\nTauchen Sie ein in das Ökosystem der digitalen Verwaltung und öffentlichen Daseinsvorsorge und erleben Sie die transformative Kraft der Digitalisierung. \nErleben Sie die Highlights! Werfen Sie einen Blick auf unser Recap-Video zur #SCCON24 und lassen Sie sich von den besten Momenten inspirieren. \nSave the Date: Vom 30. September bis 02. Oktober 2025 heißt es in Berlin wieder: Gemeinsam Zukunft gestalten! Seien Sie dabei!
URL:https://tesch.info/event/1157/
LOCATION:Messe Berlin\, Jafféstraße 2\, Tor 25\, Berlin\, Berlin\, 14055\, Germany
CATEGORIES:Digitales
END:VEVENT
BEGIN:VEVENT
DTSTART;TZID=Europe/Berlin:20251022T000000
DTEND;TZID=Europe/Berlin:20251023T000000
DTSTAMP:20260424T152333
CREATED:20250218T231225Z
LAST-MODIFIED:20250218T231225Z
UID:1257-1761091200-1761177600@tesch.info
SUMMARY:Petersberger Haushalts- und Finanzgipfel
DESCRIPTION:Der Petersberger Haushalts- und Finanzgipfel ist eine exklusive zweitägige Veranstaltung im traditionsreichen Grandhotel Petersberg. Hier kommen Experten aus Politik\, Verwaltung\, Wirtschaft und Wissenschaft zusammen\, um digitale Lösungen für die Finanzplanung und Haushaltssteuerung im öffentlichen Sektor zu erörtern. Ziel ist es\, praxisorientierte Ansätze zu entwickeln\, die durch die Digitalisierung Prozesse effizienter\, transparenter und zukunftssicher gestalten. \nNeben spannenden Keynotes und praxisnahen Workshops bietet der Gipfel auch ein exklusives Dinner\, bei dem Führungskräfte und Entscheider die Gelegenheit haben\, in entspannter Atmosphäre zu netzwerken. Das renovierte Grandhotel Petersberg bietet den idealen Rahmen mit modernen Tagungsräumen und großzügigen Ausstellungsflächen. Nutzen Sie diese Gelegenheit\, um von den führenden Köpfen der Branche zu lernen und die Finanzplanung der Zukunft nachhaltig zu gestalten.
URL:https://tesch.info/event/petersberger-haushalts-und-finanzgipfel/
LOCATION:Steigenberger Icon Grandhotel & Spa Petersberg\, Petersberg\, Königswinter\, Nordrhein-Westfalen\, 53639\, Germany
CATEGORIES:Finanzen
END:VEVENT
BEGIN:VEVENT
DTSTART;TZID=Europe/Berlin:20251022T090000
DTEND;TZID=Europe/Berlin:20251023T170000
DTSTAMP:20260424T152333
CREATED:20250218T231843Z
LAST-MODIFIED:20250218T231843Z
UID:1260-1761123600-1761238800@tesch.info
SUMMARY:KOMMUNALE
DESCRIPTION:Die KOMMUNALE hat sich über die letzten 25 Jahre als Deutschlands größte Messe für Kommunalbedarf etabliert und bietet eine einzigartige Plattform für den Austausch und die Vernetzung von Fachleuten aus der Kommunalpolitik. Ihre umfassende Themenvielfalt und ihr deutschlandweites Alleinstellungsmerkmal machen sie zu einem wichtigen Treffpunkt für alle\, die die Zukunft der Städte und Gemeinden aktiv gestalten wollen. \nNeben innovativen Produkten und Dienstleistungen bietet die Messe auch ein abwechslungsreiches Rahmenprogramm. Der DIGITAL-Kongress\, der Kongress des Bayerischen Gemeindetags sowie zahlreiche Foren und Vorträge bieten Gelegenheit zum intensiven Austausch über aktuelle und zukünftige Herausforderungen. Die KOMMUNALE trifft dabei genau den Puls der Zeit und setzt mit ihren Zukunftsthemen und kommunalpolitischen Ausrichtungen wichtige Impulse für die Branche. \nNutzen Sie die Gelegenheit\, sich auf der KOMMUNALE 2025 mit Fachleuten und Politikern aus der Kommunalpolitik auszutauschen und aktiv an der Gestaltung der Zukunft unserer Städte und Gemeinden mitzuwirken.
URL:https://tesch.info/event/kommunale/
LOCATION:Messezentrum Nürnberg\, Messezentrum 1\, Nürnberg\, Bayern\, 90471\, Germany
CATEGORIES:Kommunen
END:VEVENT
END:VCALENDAR