BEGIN:VCALENDAR
VERSION:2.0
PRODID:-//Henrik Tesch - ECPv6.15.18//NONSGML v1.0//EN
CALSCALE:GREGORIAN
METHOD:PUBLISH
X-WR-CALNAME:Henrik Tesch
X-ORIGINAL-URL:https://tesch.info
X-WR-CALDESC:Veranstaltungen für Henrik Tesch
REFRESH-INTERVAL;VALUE=DURATION:PT1H
X-Robots-Tag:noindex
X-PUBLISHED-TTL:PT1H
BEGIN:VTIMEZONE
TZID:Europe/Berlin
BEGIN:DAYLIGHT
TZOFFSETFROM:+0100
TZOFFSETTO:+0200
TZNAME:CEST
DTSTART:20240331T010000
END:DAYLIGHT
BEGIN:STANDARD
TZOFFSETFROM:+0200
TZOFFSETTO:+0100
TZNAME:CET
DTSTART:20241027T010000
END:STANDARD
BEGIN:DAYLIGHT
TZOFFSETFROM:+0100
TZOFFSETTO:+0200
TZNAME:CEST
DTSTART:20250330T010000
END:DAYLIGHT
BEGIN:STANDARD
TZOFFSETFROM:+0200
TZOFFSETTO:+0100
TZNAME:CET
DTSTART:20251026T010000
END:STANDARD
BEGIN:DAYLIGHT
TZOFFSETFROM:+0100
TZOFFSETTO:+0200
TZNAME:CEST
DTSTART:20260329T010000
END:DAYLIGHT
BEGIN:STANDARD
TZOFFSETFROM:+0200
TZOFFSETTO:+0100
TZNAME:CET
DTSTART:20261025T010000
END:STANDARD
END:VTIMEZONE
BEGIN:VEVENT
DTSTART;TZID=Europe/Berlin:20250827T090000
DTEND;TZID=Europe/Berlin:20250828T170000
DTSTAMP:20260424T182826
CREATED:20241206T164752Z
LAST-MODIFIED:20241206T164807Z
UID:1129-1756285200-1756400400@tesch.info
SUMMARY:Messe KOMMUNAL 2025
DESCRIPTION:Die Messe KOMMUNAL bietet eine Plattform für Experten aus der Wirtschaft\, um sich auszutauschen und voneinander zu lernen. In Fachvorträgen\, Keynotes und Podiumsdiskussionen werden aktuelle Themen beleuchtet und praxisnahe Erfolgsbeispiele aus dem kommunalen Bereich präsentiert. \nVon innovativen Lösungsansätzen und realisierten Projekten bis hin zu neuen Produkten\, die im Kontext des digitalen Wandels von Bedeutung sind\, decken die Beiträge ein breites Spektrum ab. Im Fokus stehen dabei die Ziele: informieren\, netzwerken und inspirieren. \nDie Messe vereint Vielfalt und Innovation für alle gemeinderelevanten Branchen. Über 140 Aussteller präsentieren praktische und zukunftsweisende Lösungen für die spezifischen Bedürfnisse des kommunalen Sektors. Von international tätigen Konzernen bis hin zu visionären Start-ups zeigt die Messe die ganze Bandbreite an Konzepten und maßgeschneiderten Ansätzen\, um Städte und Gemeinden bei den Herausforderungen des digitalen Wandels zu unterstützen.
URL:https://tesch.info/event/messe-kommunal-2025/
LOCATION:LOKHALLE Industrielocation Göttingen\, Bahnhofsallee 1\, Göttingen\, Niedersachsen\, 37081\, Germany
CATEGORIES:Kommunen,Messe
END:VEVENT
END:VCALENDAR