BEGIN:VCALENDAR
VERSION:2.0
PRODID:-//Henrik Tesch - ECPv6.15.18//NONSGML v1.0//EN
CALSCALE:GREGORIAN
METHOD:PUBLISH
X-ORIGINAL-URL:https://tesch.info
X-WR-CALDESC:Veranstaltungen für Henrik Tesch
REFRESH-INTERVAL;VALUE=DURATION:PT1H
X-Robots-Tag:noindex
X-PUBLISHED-TTL:PT1H
BEGIN:VTIMEZONE
TZID:Europe/Berlin
BEGIN:DAYLIGHT
TZOFFSETFROM:+0100
TZOFFSETTO:+0200
TZNAME:CEST
DTSTART:20250330T010000
END:DAYLIGHT
BEGIN:STANDARD
TZOFFSETFROM:+0200
TZOFFSETTO:+0100
TZNAME:CET
DTSTART:20251026T010000
END:STANDARD
BEGIN:DAYLIGHT
TZOFFSETFROM:+0100
TZOFFSETTO:+0200
TZNAME:CEST
DTSTART:20260329T010000
END:DAYLIGHT
BEGIN:STANDARD
TZOFFSETFROM:+0200
TZOFFSETTO:+0100
TZNAME:CET
DTSTART:20261025T010000
END:STANDARD
BEGIN:DAYLIGHT
TZOFFSETFROM:+0100
TZOFFSETTO:+0200
TZNAME:CEST
DTSTART:20270328T010000
END:DAYLIGHT
BEGIN:STANDARD
TZOFFSETFROM:+0200
TZOFFSETTO:+0100
TZNAME:CET
DTSTART:20271031T010000
END:STANDARD
END:VTIMEZONE
BEGIN:VEVENT
DTSTART;TZID=Europe/Berlin:20260616T000000
DTEND;TZID=Europe/Berlin:20260617T000000
DTSTAMP:20260424T165541
CREATED:20260120T121444Z
LAST-MODIFIED:20260120T121444Z
UID:1355-1781568000-1781654400@tesch.info
SUMMARY:PITS 2026 (PUBLIC-IT-SECURITY)
DESCRIPTION:Früher war IT-Sicherheit ein Thema für wenige Spezialist:innen. Heute ist Cyber-Sicherheit ein zentrales Element für den Schutz von Städten\, Unternehmen und Gesellschaften. Angriffe auf IT-Systeme erfolgen immer häufiger\, oft organisiert\, politisch motiviert und unterstützt durch moderne Technologien wie Künstliche Intelligenz. \nDie PITS 2026 stellt die Menschen in den Vordergrund\, die tagtäglich für unsere digitale Sicherheit sorgen – auf Bundes-\, Landes- und kommunaler Ebene. Gleichzeitig rückt die Konferenz die zentralen Themen der Public-IT-Security in den Fokus: den verantwortungsvollen Umgang mit KI\, sichere Nutzung von Cloud-Infrastrukturen\, die Ausbildung von IT-Sicherheitskompetenzen und die Abwehr alltäglicher Cyber-Angriffe im öffentlichen Sektor. \nMit praxisnahen Einblicken\, hochkarätigen Expert:innen und interaktiven Formaten macht die PITS 2026 sichtbar\, wie digitale Resilienz entsteht und wer sie möglich macht.
URL:https://tesch.info/event/pits-2026-public-it-security/
LOCATION:Hotel Adlon\, Unter den Linden 77 (Hotel Adlon Berlin)\, Berlin\, Berlin\, 10117\, Germany
CATEGORIES:Digitales,IT-Security
END:VEVENT
BEGIN:VEVENT
DTSTART;TZID=Europe/Berlin:20260616T000000
DTEND;TZID=Europe/Berlin:20260617T000000
DTSTAMP:20260424T165541
CREATED:20260126T003145Z
LAST-MODIFIED:20260126T003145Z
UID:1369-1781568000-1781654400@tesch.info
SUMMARY:Digitale Verwaltung für Forschungseinrichtungen
DESCRIPTION:Die Fachmesse „Digitale Verwaltung für Forschungseinrichtungen“ bringt erstmals zentrale Akteure der Verwaltungsarbeit aus Wissenschaft und Forschung zusammen. Im Mittelpunkt stehen digitale Lösungen für Finanzen\, Personal\, Vergabe und Beschaffung\, ergänzt durch ERP-Systeme\, IT-Sicherheit und moderne IT-Arbeitsplätze. \nDie Messe richtet sich an Entscheider:innen und Anwender:innen aus den administrativen Bereichen der Leibniz-Institute und weiterer öffentlicher Forschungseinrichtungen. Workshops\, Panels und Fachgespräche bieten Einblicke in digitale Strategien\, aktuelle Herausforderungen und kommende Beschaffungsvorhaben sowie Raum für fachlichen Austausch und Vernetzung.
URL:https://tesch.info/event/digitale-verwaltung-fuer-forschungseinrichtungen/
LOCATION:Energiepark Hirschaid\, Leimhüll 8\, Hirschaid\, Bayern\, 96114\, Germany
CATEGORIES:Bildung,Digitales
ORGANIZER;CN="ISGUS GmbH":MAILTO:info@​isgus.​de
END:VEVENT
END:VCALENDAR