BEGIN:VCALENDAR
VERSION:2.0
PRODID:-//Henrik Tesch - ECPv6.15.18//NONSGML v1.0//EN
CALSCALE:GREGORIAN
METHOD:PUBLISH
X-WR-CALNAME:Henrik Tesch
X-ORIGINAL-URL:https://tesch.info
X-WR-CALDESC:Veranstaltungen für Henrik Tesch
REFRESH-INTERVAL;VALUE=DURATION:PT1H
X-Robots-Tag:noindex
X-PUBLISHED-TTL:PT1H
BEGIN:VTIMEZONE
TZID:Europe/Berlin
BEGIN:DAYLIGHT
TZOFFSETFROM:+0100
TZOFFSETTO:+0200
TZNAME:CEST
DTSTART:20250330T010000
END:DAYLIGHT
BEGIN:STANDARD
TZOFFSETFROM:+0200
TZOFFSETTO:+0100
TZNAME:CET
DTSTART:20251026T010000
END:STANDARD
BEGIN:DAYLIGHT
TZOFFSETFROM:+0100
TZOFFSETTO:+0200
TZNAME:CEST
DTSTART:20260329T010000
END:DAYLIGHT
BEGIN:STANDARD
TZOFFSETFROM:+0200
TZOFFSETTO:+0100
TZNAME:CET
DTSTART:20261025T010000
END:STANDARD
BEGIN:DAYLIGHT
TZOFFSETFROM:+0100
TZOFFSETTO:+0200
TZNAME:CEST
DTSTART:20270328T010000
END:DAYLIGHT
BEGIN:STANDARD
TZOFFSETFROM:+0200
TZOFFSETTO:+0100
TZNAME:CET
DTSTART:20271031T010000
END:STANDARD
END:VTIMEZONE
BEGIN:VEVENT
DTSTART;TZID=Europe/Berlin:20260310T000000
DTEND;TZID=Europe/Berlin:20260314T000000
DTSTAMP:20260424T110424
CREATED:20260327T080018Z
LAST-MODIFIED:20260327T080018Z
UID:1427-1773100800-1773446400@tesch.info
SUMMARY:Didacta
DESCRIPTION:Die didacta ist die führende Fachmesse und Weiterbildungsveranstaltung für das gesamte Bildungswesen in Europa. Sie bietet einen umfassenden Überblick über aktuelle Entwicklungen\, Trends und Lösungen entlang der gesamten Bildungskette: von der frühkindlichen Bildung über Schule und berufliche Qualifizierung bis hin zum lebenslangen Lernen. \nAls zentrale Plattform bringt die didacta Akteurinnen und Akteure aus Politik\, Wirtschaft\, Wissenschaft und Gesellschaft zusammen. Im Fokus stehen der fachliche Austausch\, neue Impulse für die Bildungspraxis sowie die gemeinsame Gestaltung zukunftsfähiger Bildungsangebote. Die Veranstaltung ermöglicht es\, innovative Konzepte kennenzulernen\, sich zu vernetzen und die Bildung von morgen aktiv mitzugestalten.
URL:https://tesch.info/event/didacta/
LOCATION:Koelnmesse\, Messeplatz 1\, Köln\, Nordrhein-Westfalen\, 50679\, Germany
CATEGORIES:Bildung
ORGANIZER;CN="Koelnmesse GmbH":MAILTO:info@koelnmesse.de
END:VEVENT
END:VCALENDAR