BEGIN:VCALENDAR
VERSION:2.0
PRODID:-//Henrik Tesch - ECPv6.15.18//NONSGML v1.0//EN
CALSCALE:GREGORIAN
METHOD:PUBLISH
X-ORIGINAL-URL:https://tesch.info
X-WR-CALDESC:Veranstaltungen für Henrik Tesch
REFRESH-INTERVAL;VALUE=DURATION:PT1H
X-Robots-Tag:noindex
X-PUBLISHED-TTL:PT1H
BEGIN:VTIMEZONE
TZID:Europe/Berlin
BEGIN:DAYLIGHT
TZOFFSETFROM:+0100
TZOFFSETTO:+0200
TZNAME:CEST
DTSTART:20240331T010000
END:DAYLIGHT
BEGIN:STANDARD
TZOFFSETFROM:+0200
TZOFFSETTO:+0100
TZNAME:CET
DTSTART:20241027T010000
END:STANDARD
BEGIN:DAYLIGHT
TZOFFSETFROM:+0100
TZOFFSETTO:+0200
TZNAME:CEST
DTSTART:20250330T010000
END:DAYLIGHT
BEGIN:STANDARD
TZOFFSETFROM:+0200
TZOFFSETTO:+0100
TZNAME:CET
DTSTART:20251026T010000
END:STANDARD
BEGIN:DAYLIGHT
TZOFFSETFROM:+0100
TZOFFSETTO:+0200
TZNAME:CEST
DTSTART:20260329T010000
END:DAYLIGHT
BEGIN:STANDARD
TZOFFSETFROM:+0200
TZOFFSETTO:+0100
TZNAME:CET
DTSTART:20261025T010000
END:STANDARD
END:VTIMEZONE
BEGIN:VEVENT
DTSTART;TZID=Europe/Berlin:20250918T000000
DTEND;TZID=Europe/Berlin:20250919T000000
DTSTAMP:20260424T183030
CREATED:20241206T184254Z
LAST-MODIFIED:20250218T230257Z
UID:1151-1758153600-1758240000@tesch.info
SUMMARY:DATEV-Anwenderforum für den Public Sector
DESCRIPTION:DATEV-Anwenderforum für den Public Sector\n\n\n\n\n\n\n\n\n\n\nAm 18. und 19. September 2025 wird in Hamburg das jährliche DATEV-Anwenderforum für den Public Sector stattfinden. Verwaltungen und öffentliche Unternehmen sind herzlich eingeladen\, an dieser wichtigen Veranstaltung teilzunehmen. \nIm Mittelpunkt der Veranstaltung stehen topaktuelle Themen für Kommunen\, öffentliche Unternehmen und Betriebe der öffentlichen Hand. Es erwarten Sie spannende Vorträge zu den neuesten Produktinnovationen sowie relevante Themen rund um den Public Sector. Auch der beliebte Vortrag „Bericht aus Berlin“ wird erneut auf der Agenda stehen und spannende Einblicke bieten.
URL:https://tesch.info/event/datev-anwenderforum-fuer-den-public-sector/
LOCATION:HYPERION Hotel Hamburg\, Amsinckstr. 39-41\, Hamburg\, Hamburg\, 20097\, Germany
CATEGORIES:Digitales
ORGANIZER;CN="DATEV eG":MAILTO:info@datev.de
END:VEVENT
END:VCALENDAR